Package: MADSEQ Version: 1.32.0 Command: /home/biocbuild/R/R/bin/R CMD INSTALL MADSEQ StartedAt: 2025-01-30 20:31:51 -0000 (Thu, 30 Jan 2025) EndedAt: 2025-01-30 20:31:52 -0000 (Thu, 30 Jan 2025) EllapsedTime: 1.0 seconds RetCode: 1 Status: ERROR