Package: MADSEQ Version: 1.32.0 Command: F:\biocbuild\bbs-3.20-bioc\R\bin\R.exe CMD INSTALL MADSEQ StartedAt: 2025-01-30 16:15:00 -0500 (Thu, 30 Jan 2025) EndedAt: 2025-01-30 16:16:16 -0500 (Thu, 30 Jan 2025) EllapsedTime: 75.9 seconds RetCode: 0 Status: OK