Package: MADSEQ Version: 1.32.0 Command: /Library/Frameworks/R.framework/Resources/bin/R CMD build --keep-empty-dirs --no-resave-data MADSEQ StartedAt: 2025-01-31 02:23:31 -0500 (Fri, 31 Jan 2025) EndedAt: 2025-01-31 02:24:54 -0500 (Fri, 31 Jan 2025) EllapsedTime: 82.7 seconds RetCode: 0 Status: OK PackageFile: MADSEQ_1.32.0.tar.gz PackageFileSize: 2.031 MiB