Package: M3C Version: 1.28.0 Command: /home/biocbuild/bbs-3.20-bioc/R/bin/R CMD check --install=check:M3C.install-out.txt --library=/home/biocbuild/bbs-3.20-bioc/R/site-library --timings M3C_1.28.0.tar.gz StartedAt: 2025-01-30 23:31:50 -0500 (Thu, 30 Jan 2025) EndedAt: 2025-01-30 23:33:39 -0500 (Thu, 30 Jan 2025) EllapsedTime: 109.2 seconds RetCode: 0 Status: OK CheckDir: M3C.Rcheck Warnings: 0