Package: LiquidAssociation Version: 1.60.0 Command: /home/biocbuild/bbs-3.20-bioc/R/bin/R CMD check --install=check:LiquidAssociation.install-out.txt --library=/home/biocbuild/bbs-3.20-bioc/R/site-library --timings LiquidAssociation_1.60.0.tar.gz StartedAt: 2025-01-30 23:29:34 -0500 (Thu, 30 Jan 2025) EndedAt: 2025-01-30 23:31:18 -0500 (Thu, 30 Jan 2025) EllapsedTime: 104.1 seconds RetCode: 0 Status: OK CheckDir: LiquidAssociation.Rcheck Warnings: 0