Package: LiquidAssociation Version: 1.60.0 Command: /home/biocbuild/bbs-3.20-bioc/R/bin/R CMD build --keep-empty-dirs --no-resave-data --md5 LiquidAssociation StartedAt: 2025-01-30 17:50:59 -0500 (Thu, 30 Jan 2025) EndedAt: 2025-01-30 17:51:26 -0500 (Thu, 30 Jan 2025) EllapsedTime: 27.0 seconds RetCode: 0 Status: OK PackageFile: LiquidAssociation_1.60.0.tar.gz PackageFileSize: 286.7 KiB