Package: LiquidAssociation Version: 1.60.0 Command: /Library/Frameworks/R.framework/Resources/bin/R CMD check --install=check:LiquidAssociation.install-out.txt --library=/Library/Frameworks/R.framework/Resources/library --no-vignettes --timings LiquidAssociation_1.60.0.tar.gz StartedAt: 2025-01-31 23:31:33 -0500 (Fri, 31 Jan 2025) EndedAt: 2025-01-31 23:33:23 -0500 (Fri, 31 Jan 2025) EllapsedTime: 109.8 seconds RetCode: 0 Status: OK CheckDir: LiquidAssociation.Rcheck Warnings: 0