Package: LinkHD Version: 1.20.0 Command: /home/biocbuild/R/R/bin/R CMD build --keep-empty-dirs --no-resave-data LinkHD StartedAt: 2025-01-31 00:33:44 -0000 (Fri, 31 Jan 2025) EndedAt: 2025-01-31 00:35:05 -0000 (Fri, 31 Jan 2025) EllapsedTime: 81.0 seconds RetCode: 0 Status: OK PackageFile: LinkHD_1.20.0.tar.gz PackageFileSize: 1.898 MiB