Package: LinkHD Version: 1.20.0 Command: /home/biocbuild/bbs-3.20-bioc/R/bin/R CMD check --install=check:LinkHD.install-out.txt --library=/home/biocbuild/bbs-3.20-bioc/R/site-library --timings LinkHD_1.20.0.tar.gz StartedAt: 2025-01-30 23:28:45 -0500 (Thu, 30 Jan 2025) EndedAt: 2025-01-30 23:32:28 -0500 (Thu, 30 Jan 2025) EllapsedTime: 223.4 seconds RetCode: 0 Status: OK CheckDir: LinkHD.Rcheck Warnings: 0