Package: LedPred Version: 1.40.0 Command: /Library/Frameworks/R.framework/Resources/bin/R CMD INSTALL LedPred StartedAt: 2025-01-30 17:06:07 -0500 (Thu, 30 Jan 2025) EndedAt: 2025-01-30 17:06:19 -0500 (Thu, 30 Jan 2025) EllapsedTime: 12.3 seconds RetCode: 0 Status: OK