Package: LRcell Version: 1.14.0 Command: chmod a+r LRcell -R && F:\biocbuild\bbs-3.20-bioc\R\bin\R.exe CMD build --keep-empty-dirs --no-resave-data LRcell StartedAt: 2025-01-30 19:50:21 -0500 (Thu, 30 Jan 2025) EndedAt: 2025-01-30 19:51:53 -0500 (Thu, 30 Jan 2025) EllapsedTime: 91.6 seconds RetCode: 0 Status: OK PackageFile: LRcell_1.14.0.tar.gz PackageFileSize: 686.1 KiB