Package: LRcell Version: 1.14.0 Command: /home/biocbuild/bbs-3.20-bioc/R/bin/R CMD check --install=check:LRcell.install-out.txt --library=/home/biocbuild/bbs-3.20-bioc/R/site-library --timings LRcell_1.14.0.tar.gz StartedAt: 2025-01-30 23:31:32 -0500 (Thu, 30 Jan 2025) EndedAt: 2025-01-30 23:34:28 -0500 (Thu, 30 Jan 2025) EllapsedTime: 175.3 seconds RetCode: 0 Status: OK CheckDir: LRcell.Rcheck Warnings: 0