Package: LRcell Version: 1.14.0 Command: /Library/Frameworks/R.framework/Resources/bin/R CMD build --keep-empty-dirs --no-resave-data LRcell StartedAt: 2024-11-08 17:54:25 -0500 (Fri, 08 Nov 2024) EndedAt: 2024-11-08 17:54:49 -0500 (Fri, 08 Nov 2024) EllapsedTime: 24.3 seconds RetCode: 0 Status: OK PackageFile: LRcell_1.14.0.tar.gz PackageFileSize: 1.037 MiB