Package: LRBaseDbi Version: 2.16.0 Command: /home/biocbuild/R/R/bin/R CMD build --keep-empty-dirs --no-resave-data LRBaseDbi StartedAt: 2025-01-31 00:35:18 -0000 (Fri, 31 Jan 2025) EndedAt: 2025-01-31 00:35:53 -0000 (Fri, 31 Jan 2025) EllapsedTime: 35.0 seconds RetCode: 0 Status: OK PackageFile: LRBaseDbi_2.16.0.tar.gz PackageFileSize: 139.3 KiB