Package: LRBaseDbi Version: 2.16.0 Command: rm -rf LRBaseDbi.buildbin-libdir && mkdir LRBaseDbi.buildbin-libdir && /Users/biocbuild/BBS/utils/build-universal.sh LRBaseDbi_2.16.0.tar.gz /Library/Frameworks/R.framework/Resources/bin/R LRBaseDbi.buildbin-libdir StartedAt: 2025-01-31 13:04:51 -0500 (Fri, 31 Jan 2025) EndedAt: 2025-01-31 13:05:20 -0500 (Fri, 31 Jan 2025) EllapsedTime: 29.3 seconds RetCode: 0 Status: OK PackageFile: LRBaseDbi_2.16.0.tgz PackageFileSize: 566.9 KiB