Package: LPE Version: 1.80.0 Command: /home/biocbuild/R/R/bin/R CMD INSTALL LPE StartedAt: 2025-01-30 20:06:42 -0000 (Thu, 30 Jan 2025) EndedAt: 2025-01-30 20:07:05 -0000 (Thu, 30 Jan 2025) EllapsedTime: 23.2 seconds RetCode: 0 Status: OK