Package: LPE Version: 1.80.0 Command: rm -rf LPE.buildbin-libdir && mkdir LPE.buildbin-libdir && /Users/biocbuild/BBS/utils/build-universal.sh LPE_1.80.0.tar.gz /Library/Frameworks/R.framework/Resources/bin/R LPE.buildbin-libdir StartedAt: 2025-02-01 15:30:58 -0500 (Sat, 01 Feb 2025) EndedAt: 2025-02-01 15:31:03 -0500 (Sat, 01 Feb 2025) EllapsedTime: 4.5 seconds RetCode: 0 Status: OK PackageFile: LPE_1.80.0.tgz PackageFileSize: 510.1 KiB