Package: LOBSTAHS Version: 1.32.0 Command: /Library/Frameworks/R.framework/Resources/bin/R CMD INSTALL LOBSTAHS StartedAt: 2025-01-30 17:04:15 -0500 (Thu, 30 Jan 2025) EndedAt: 2025-01-30 17:05:09 -0500 (Thu, 30 Jan 2025) EllapsedTime: 53.9 seconds RetCode: 0 Status: OK