Package: LOBSTAHS Version: 1.32.0 Command: rm -rf LOBSTAHS.buildbin-libdir && mkdir LOBSTAHS.buildbin-libdir && /Users/biocbuild/BBS/utils/build-universal.sh LOBSTAHS_1.32.0.tar.gz /Library/Frameworks/R.framework/Resources/bin/R LOBSTAHS.buildbin-libdir StartedAt: 2025-02-01 15:30:41 -0500 (Sat, 01 Feb 2025) EndedAt: 2025-02-01 15:31:39 -0500 (Sat, 01 Feb 2025) EllapsedTime: 57.9 seconds RetCode: 0 Status: OK PackageFile: LOBSTAHS_1.32.0.tgz PackageFileSize: 1.995 MiB