Package: LEA Version: 3.18.0 Command: /home/biocbuild/bbs-3.20-bioc/R/bin/R CMD INSTALL LEA StartedAt: 2025-01-30 15:04:50 -0500 (Thu, 30 Jan 2025) EndedAt: 2025-01-30 15:05:08 -0500 (Thu, 30 Jan 2025) EllapsedTime: 17.9 seconds RetCode: 0 Status: OK