Package: LACE Version: 2.10.0 Command: /home/biocbuild/R/R/bin/R CMD INSTALL LACE StartedAt: 2025-01-30 20:43:46 -0000 (Thu, 30 Jan 2025) EndedAt: 2025-01-30 20:44:25 -0000 (Thu, 30 Jan 2025) EllapsedTime: 39.2 seconds RetCode: 0 Status: OK