Package: KEGGgraph Version: 1.66.0 Command: F:\biocbuild\bbs-3.20-bioc\R\bin\R.exe CMD check --no-multiarch --install=check:KEGGgraph.install-out.txt --library=F:\biocbuild\bbs-3.20-bioc\R\library --no-vignettes --timings KEGGgraph_1.66.0.tar.gz StartedAt: 2025-01-31 03:18:06 -0500 (Fri, 31 Jan 2025) EndedAt: 2025-01-31 03:19:48 -0500 (Fri, 31 Jan 2025) EllapsedTime: 101.9 seconds RetCode: 0 Status: WARNINGS CheckDir: KEGGgraph.Rcheck Warnings: 1