Package: KEGGgraph Version: 1.66.0 Command: chmod a+r KEGGgraph -R && F:\biocbuild\bbs-3.20-bioc\R\bin\R.exe CMD build --keep-empty-dirs --no-resave-data KEGGgraph StartedAt: 2025-01-30 19:45:28 -0500 (Thu, 30 Jan 2025) EndedAt: 2025-01-30 19:46:27 -0500 (Thu, 30 Jan 2025) EllapsedTime: 58.4 seconds RetCode: 0 Status: OK PackageFile: KEGGgraph_1.66.0.tar.gz PackageFileSize: 1.303 MiB