Package: KEGGgraph Version: 1.66.0 Command: rm -rf KEGGgraph.buildbin-libdir && mkdir KEGGgraph.buildbin-libdir && F:\biocbuild\bbs-3.20-bioc\R\bin\R.exe CMD INSTALL --build --library=KEGGgraph.buildbin-libdir KEGGgraph_1.66.0.tar.gz StartedAt: 2025-01-31 08:55:07 -0500 (Fri, 31 Jan 2025) EndedAt: 2025-01-31 08:56:25 -0500 (Fri, 31 Jan 2025) EllapsedTime: 77.3 seconds RetCode: 0 Status: OK PackageFile: KEGGgraph_1.66.0.zip PackageFileSize: 1.619 MiB