Package: KEGGgraph Version: 1.66.0 Command: /home/biocbuild/bbs-3.20-bioc/R/bin/R CMD INSTALL KEGGgraph StartedAt: 2025-01-30 15:08:17 -0500 (Thu, 30 Jan 2025) EndedAt: 2025-01-30 15:08:37 -0500 (Thu, 30 Jan 2025) EllapsedTime: 20.7 seconds RetCode: 0 Status: OK