Package: KEGGgraph Version: 1.66.0 Command: /home/biocbuild/bbs-3.20-bioc/R/bin/R CMD check --install=check:KEGGgraph.install-out.txt --library=/home/biocbuild/bbs-3.20-bioc/R/site-library --timings KEGGgraph_1.66.0.tar.gz StartedAt: 2025-01-30 23:24:29 -0500 (Thu, 30 Jan 2025) EndedAt: 2025-01-30 23:26:10 -0500 (Thu, 30 Jan 2025) EllapsedTime: 101.1 seconds RetCode: 0 Status: WARNINGS CheckDir: KEGGgraph.Rcheck Warnings: 1