Package: KCsmart Version: 2.64.0 Command: /home/biocbuild/R/R/bin/R CMD INSTALL KCsmart StartedAt: 2025-01-30 20:54:45 -0000 (Thu, 30 Jan 2025) EndedAt: 2025-01-30 20:54:57 -0000 (Thu, 30 Jan 2025) EllapsedTime: 11.9 seconds RetCode: 0 Status: OK