Package: KCsmart Version: 2.64.0 Command: /Library/Frameworks/R.framework/Resources/bin/R CMD check --install=check:KCsmart.install-out.txt --library=/Library/Frameworks/R.framework/Resources/library --no-vignettes --timings KCsmart_2.64.0.tar.gz StartedAt: 2025-01-31 05:38:20 -0500 (Fri, 31 Jan 2025) EndedAt: 2025-01-31 05:41:21 -0500 (Fri, 31 Jan 2025) EllapsedTime: 181.1 seconds RetCode: 0 Status: WARNINGS CheckDir: KCsmart.Rcheck Warnings: 1