Package: KCsmart Version: 2.64.0 Command: rm -rf KCsmart.buildbin-libdir && mkdir KCsmart.buildbin-libdir && /Users/biocbuild/BBS/utils/build-universal.sh KCsmart_2.64.0.tar.gz /Library/Frameworks/R.framework/Resources/bin/R KCsmart.buildbin-libdir StartedAt: 2024-11-09 16:55:41 -0500 (Sat, 09 Nov 2024) EndedAt: 2024-11-09 16:55:45 -0500 (Sat, 09 Nov 2024) EllapsedTime: 4.1 seconds RetCode: 0 Status: OK PackageFile: KCsmart_2.64.0.tgz PackageFileSize: 2.198 MiB