Package: IsoformSwitchAnalyzeR Version: 2.6.0 Command: /home/biocbuild/bbs-3.20-bioc/R/bin/R CMD check --install=check:IsoformSwitchAnalyzeR.install-out.txt --library=/home/biocbuild/bbs-3.20-bioc/R/site-library --timings IsoformSwitchAnalyzeR_2.6.0.tar.gz StartedAt: 2025-01-30 23:21:34 -0500 (Thu, 30 Jan 2025) EndedAt: 2025-01-30 23:34:05 -0500 (Thu, 30 Jan 2025) EllapsedTime: 750.0 seconds RetCode: 0 Status: OK CheckDir: IsoformSwitchAnalyzeR.Rcheck Warnings: 0