Package: IsoCorrectoRGUI Version: 1.22.0 Command: F:\biocbuild\bbs-3.20-bioc\R\bin\R.exe CMD check --no-multiarch --install=check:IsoCorrectoRGUI.install-out.txt --library=F:\biocbuild\bbs-3.20-bioc\R\library --no-vignettes --timings IsoCorrectoRGUI_1.22.0.tar.gz StartedAt: 2025-01-31 03:14:58 -0500 (Fri, 31 Jan 2025) EndedAt: 2025-01-31 03:15:44 -0500 (Fri, 31 Jan 2025) EllapsedTime: 46.8 seconds RetCode: 0 Status: OK CheckDir: IsoCorrectoRGUI.Rcheck Warnings: 0