Package: IsoCorrectoR Version: 1.24.0 Command: /Library/Frameworks/R.framework/Resources/bin/R CMD INSTALL IsoCorrectoR StartedAt: 2025-01-30 15:29:59 -0500 (Thu, 30 Jan 2025) EndedAt: 2025-01-30 15:30:08 -0500 (Thu, 30 Jan 2025) EllapsedTime: 9.1 seconds RetCode: 0 Status: OK