Package: IsoBayes Version: 1.4.0 Command: /home/biocbuild/R/R/bin/R CMD build --keep-empty-dirs --no-resave-data IsoBayes StartedAt: 2025-01-31 00:29:19 -0000 (Fri, 31 Jan 2025) EndedAt: 2025-01-31 00:32:01 -0000 (Fri, 31 Jan 2025) EllapsedTime: 162.1 seconds RetCode: 0 Status: OK PackageFile: IsoBayes_1.4.0.tar.gz PackageFileSize: 1.673 MiB