Package: IsoBayes Version: 1.4.0 Command: F:\biocbuild\bbs-3.20-bioc\R\bin\R.exe CMD INSTALL IsoBayes StartedAt: 2025-01-30 15:56:11 -0500 (Thu, 30 Jan 2025) EndedAt: 2025-01-30 15:57:14 -0500 (Thu, 30 Jan 2025) EllapsedTime: 64.0 seconds RetCode: 0 Status: OK