Package: IsoBayes Version: 1.4.0 Command: /Library/Frameworks/R.framework/Resources/bin/R CMD INSTALL IsoBayes StartedAt: 2025-01-30 16:19:27 -0500 (Thu, 30 Jan 2025) EndedAt: 2025-01-30 16:20:14 -0500 (Thu, 30 Jan 2025) EllapsedTime: 47.2 seconds RetCode: 0 Status: OK