Package: IntramiRExploreR Version: 1.28.0 Command: F:\biocbuild\bbs-3.20-bioc\R\bin\R.exe CMD check --no-multiarch --install=check:IntramiRExploreR.install-out.txt --library=F:\biocbuild\bbs-3.20-bioc\R\library --no-vignettes --timings IntramiRExploreR_1.28.0.tar.gz StartedAt: 2025-01-31 03:09:44 -0500 (Fri, 31 Jan 2025) EndedAt: 2025-01-31 03:10:55 -0500 (Fri, 31 Jan 2025) EllapsedTime: 71.7 seconds RetCode: 0 Status: WARNINGS CheckDir: IntramiRExploreR.Rcheck Warnings: 2