Package: IntramiRExploreR Version: 1.28.0 Command: /Library/Frameworks/R.framework/Resources/bin/R CMD INSTALL IntramiRExploreR StartedAt: 2025-01-30 15:30:08 -0500 (Thu, 30 Jan 2025) EndedAt: 2025-01-30 15:30:18 -0500 (Thu, 30 Jan 2025) EllapsedTime: 10.1 seconds RetCode: 0 Status: OK