Package: IntramiRExploreR Version: 1.28.0 Command: rm -rf IntramiRExploreR.buildbin-libdir && mkdir IntramiRExploreR.buildbin-libdir && /Users/biocbuild/BBS/utils/build-universal.sh IntramiRExploreR_1.28.0.tar.gz /Library/Frameworks/R.framework/Resources/bin/R IntramiRExploreR.buildbin-libdir StartedAt: 2025-02-01 15:24:03 -0500 (Sat, 01 Feb 2025) EndedAt: 2025-02-01 15:24:23 -0500 (Sat, 01 Feb 2025) EllapsedTime: 20.4 seconds RetCode: 0 Status: OK PackageFile: IntramiRExploreR_1.28.0.tgz PackageFileSize: 13.09 MiB