Package: InteractiveComplexHeatmap Version: 1.14.0 Command: /home/biocbuild/R/R/bin/R CMD build --keep-empty-dirs --no-resave-data InteractiveComplexHeatmap StartedAt: 2025-01-31 00:25:43 -0000 (Fri, 31 Jan 2025) EndedAt: 2025-01-31 00:26:32 -0000 (Fri, 31 Jan 2025) EllapsedTime: 49.0 seconds RetCode: 0 Status: OK PackageFile: InteractiveComplexHeatmap_1.14.0.tar.gz PackageFileSize: 937 KiB