Package: InteractiveComplexHeatmap Version: 1.14.0 Command: chmod a+r InteractiveComplexHeatmap -R && F:\biocbuild\bbs-3.20-bioc\R\bin\R.exe CMD build --keep-empty-dirs --no-resave-data InteractiveComplexHeatmap StartedAt: 2025-01-30 19:39:22 -0500 (Thu, 30 Jan 2025) EndedAt: 2025-01-30 19:40:24 -0500 (Thu, 30 Jan 2025) EllapsedTime: 62.2 seconds RetCode: 0 Status: OK PackageFile: InteractiveComplexHeatmap_1.14.0.tar.gz PackageFileSize: 886.6 KiB