Package: Informeasure Version: 1.16.0 Command: /home/biocbuild/bbs-3.20-bioc/R/bin/R CMD check --install=check:Informeasure.install-out.txt --library=/home/biocbuild/bbs-3.20-bioc/R/site-library --timings Informeasure_1.16.0.tar.gz StartedAt: 2025-01-30 23:12:31 -0500 (Thu, 30 Jan 2025) EndedAt: 2025-01-30 23:12:56 -0500 (Thu, 30 Jan 2025) EllapsedTime: 25.0 seconds RetCode: 0 Status: OK CheckDir: Informeasure.Rcheck Warnings: 0