Package: Informeasure Version: 1.16.0 Command: /Library/Frameworks/R.framework/Resources/bin/R CMD check --install=check:Informeasure.install-out.txt --library=/Library/Frameworks/R.framework/Resources/library --no-vignettes --timings Informeasure_1.16.0.tar.gz StartedAt: 2025-01-31 22:35:54 -0500 (Fri, 31 Jan 2025) EndedAt: 2025-01-31 22:36:18 -0500 (Fri, 31 Jan 2025) EllapsedTime: 23.4 seconds RetCode: 0 Status: OK CheckDir: Informeasure.Rcheck Warnings: 0