Package: InTAD Version: 1.26.0 Command: /Library/Frameworks/R.framework/Resources/bin/R CMD build --keep-empty-dirs --no-resave-data InTAD StartedAt: 2025-01-30 20:02:38 -0500 (Thu, 30 Jan 2025) EndedAt: 2025-01-30 20:04:52 -0500 (Thu, 30 Jan 2025) EllapsedTime: 134.3 seconds RetCode: 0 Status: OK PackageFile: InTAD_1.26.0.tar.gz PackageFileSize: 1.213 MiB