Package: InTAD Version: 1.26.0 Command: /Library/Frameworks/R.framework/Resources/bin/R CMD check --install=check:InTAD.install-out.txt --library=/Library/Frameworks/R.framework/Resources/library --no-vignettes --timings InTAD_1.26.0.tar.gz StartedAt: 2024-11-19 23:13:32 -0500 (Tue, 19 Nov 2024) EndedAt: 2024-11-19 23:21:19 -0500 (Tue, 19 Nov 2024) EllapsedTime: 467.3 seconds RetCode: 0 Status: OK CheckDir: InTAD.Rcheck Warnings: 0