Package: InPAS Version: 2.14.1 Command: rm -rf InPAS.buildbin-libdir && mkdir InPAS.buildbin-libdir && F:\biocbuild\bbs-3.20-bioc\R\bin\R.exe CMD INSTALL --build --library=InPAS.buildbin-libdir InPAS_2.14.1.tar.gz StartedAt: 2025-01-31 08:52:33 -0500 (Fri, 31 Jan 2025) EndedAt: 2025-01-31 08:53:48 -0500 (Fri, 31 Jan 2025) EllapsedTime: 74.2 seconds RetCode: 0 Status: OK PackageFile: InPAS_2.14.1.zip PackageFileSize: 3.323 MiB