Package: InPAS Version: 2.14.1 Command: /Library/Frameworks/R.framework/Resources/bin/R CMD check --install=check:InPAS.install-out.txt --library=/Library/Frameworks/R.framework/Resources/library --no-vignettes --timings InPAS_2.14.1.tar.gz StartedAt: 2025-01-31 05:20:50 -0500 (Fri, 31 Jan 2025) EndedAt: 2025-01-31 05:33:24 -0500 (Fri, 31 Jan 2025) EllapsedTime: 753.9 seconds RetCode: 0 Status: WARNINGS CheckDir: InPAS.Rcheck Warnings: 1