Package: Icens Version: 1.78.0 Command: /Library/Frameworks/R.framework/Resources/bin/R CMD build --keep-empty-dirs --no-resave-data Icens StartedAt: 2025-01-31 01:36:49 -0500 (Fri, 31 Jan 2025) EndedAt: 2025-01-31 01:36:50 -0500 (Fri, 31 Jan 2025) EllapsedTime: 1.2 seconds RetCode: 0 Status: OK PackageFile: Icens_1.78.0.tar.gz PackageFileSize: 20.84 KiB