Package: ISLET Version: 1.8.0 Command: /home/biocbuild/R/R/bin/R CMD check --install=check:ISLET.install-out.txt --library=/home/biocbuild/R/R/site-library --no-vignettes --timings ISLET_1.8.0.tar.gz StartedAt: 2025-01-31 07:29:08 -0000 (Fri, 31 Jan 2025) EndedAt: 2025-01-31 07:38:38 -0000 (Fri, 31 Jan 2025) EllapsedTime: 569.9 seconds RetCode: 0 Status: OK CheckDir: ISLET.Rcheck Warnings: 0