Package: IRanges Version: 2.40.1 Command: /Library/Frameworks/R.framework/Resources/bin/R CMD build --keep-empty-dirs --no-resave-data IRanges StartedAt: 2025-01-30 20:05:16 -0500 (Thu, 30 Jan 2025) EndedAt: 2025-01-30 20:08:28 -0500 (Thu, 30 Jan 2025) EllapsedTime: 191.7 seconds RetCode: 0 Status: OK PackageFile: IRanges_2.40.1.tar.gz PackageFileSize: 470.2 KiB