Package: IRanges Version: 2.40.1 Command: rm -rf IRanges.buildbin-libdir && mkdir IRanges.buildbin-libdir && /Users/biocbuild/BBS/utils/build-universal.sh IRanges_2.40.1.tar.gz /Library/Frameworks/R.framework/Resources/bin/R IRanges.buildbin-libdir StartedAt: 2025-01-31 13:01:19 -0500 (Fri, 31 Jan 2025) EndedAt: 2025-01-31 13:03:41 -0500 (Fri, 31 Jan 2025) EllapsedTime: 142.5 seconds RetCode: 0 Status: OK PackageFile: IRanges_2.40.1.tgz PackageFileSize: 2.214 MiB